{"text_format":"1","workbook":"xlsx","n_sheets":6,"sheets":["Info","Voorronde","Finale","Eindstand","formule","Score Briefjes"],"not_rendered":{"charts":0,"images":6,"macros":1,"external_links":0,"defined_names":0,"comments":0,"pivot_tables":0},"unopened":[],"bounds":{"document_bytes":16777216,"sheet_cells":100000,"rows_first":2000,"rows_last":500,"rows_between":2000,"halvings":0,"cell_chars":16384,"cell_head_chars":4096},"cells_cut":0,"cells_raw":0,"read":"whole","date_system":"1900"}

{"sheet":"Info","index":0,"n_rows":47,"n_cols":9,"rows_kept":47,"cut":false,"hidden":false,"merged":[[19,0,19,13],[45,0,45,13],[46,1,46,6],[35,1,35,6],[44,8,44,13],[43,8,43,13],[42,8,42,13],[41,8,41,13],[40,8,40,13],[44,1,44,6],[39,8,39,13],[38,8,38,13],[25,0,25,13],[24,0,24,13],[39,1,39,6],[43,1,43,6],[42,1,42,6],[41,1,41,6],[40,1,40,6],[23,0,23,13],[22,0,22,13],[21,0,21,13],[38,1,38,6],[37,1,37,6],[36,1,36,6],[35,8,35,13],[36,8,36,13],[37,8,37,13],[18,0,18,1],[17,0,17,1],[16,0,16,1],[10,0,10,1],[8,10,8,12],[14,0,14,13],[13,0,13,13],[11,0,11,13],[12,0,12,13],[8,0,8,1],[1,0,1,13],[5,0,5,13],[4,0,4,13],[3,0,3,13],[2,0,2,13],[15,0,15,1],[6,0,6,1],[7,0,7,1],[9,0,9,1]]}
[]
["Donderdag 22 December 2016 om 20:00"]
[]
["Amerikaans Systeem, 2 partonen (kort en lang)"]
[]
["4 games Voorronde"]
["1/16 Finale",null,"1-18,","2-17,","3-16, ","enz.","enz."]
["1/8 Finale",null,"1-10","2-9,","3-8,","4-7,","5-6."]
["1/4 Finale",null,"1-6","2-5, ","3-4."]
["Finale",null,"1-2"]
[]
["Inschrijfgeld € 27, 50"]
[]
["Er wordt een bonus systeem toegepast"]
["Pasgemiddelde van:"]
["<180",null,null,null,15,"Bonus"]
["180 - 189,99",null,null,null,10,"Bonus"]
["190 - 199,99",null,null,null,5,"Bonus"]
[">200",null,null,null,0,"Bonus"]
["In geval van ex aequo wint de hoogste scratch score"]
[]
["Maximaal 18 deelnemers"]
[]
["Prijzen worden uitgekeerd in geld, waarvan de hoogte wordt bepaald naar aanleiding van het aantal deelnemers"]
[]
["Inschrijven via Antoinette Gijzel of de Website"]
[]
[]
[]
[]
[]
[]
[]
[]
[]
[1,"Annette Koster",null,null,null,null,null,10,"Stephan Vrijenhoek"]
[2,"Martin Koster",null,null,null,null,null,11,"Camil Bosman"]
[3,"Antoinette Gijzel",null,null,null,null,null,12,"Henry van Steenis"]
[4,"Ronald Gijzel",null,null,null,null,null,13,"Guy Janssens"]
[5,"Johan van Nispen",null,null,null,null,null,14,"Kees Ringelberg"]
[6,"Toos van Nispen",null,null,null,null,null,15,"Andrea Ringelberg"]
[7,"Marion de Leux",null,null,null,null,null,16,"Paul van Herpen"]
[8,"Wilbert Anthonisse",null,null,null,null,null,17,"Edwin van Leeuwen"]
[9,"Edwin Duinhouwer",null,null,null,null,null,18,"Marco vd Visse"]
[]
["Reserve"]
[19,"Ben van Denzel"]

{"sheet":"Voorronde","index":1,"n_rows":25,"n_cols":11,"rows_kept":25,"cut":false,"hidden":false,"merged":[[23,0,23,10],[21,2,21,3],[21,4,21,5],[21,6,21,7],[21,8,21,9]]}
[]
[null,null,"Pasgem","Bonus","Game 1","Game 2","Game 3","Game 4","Tot/Scr","Tot/Bon.","Tot/Incl"]
[1,"Henry v. Steenis",200,0,166,256,223,213,{"$f":"SUM(E3:H3)","v":858},{"$f":"SUM(D3*4)","v":0},{"$f":"SUM(I3:J3)","v":858}]
[2,"Antoinette Gijzel",193,5,218,199,176,224,817,20,837]
[3,"Camil Bosman",209,0,215,207,174,238,834,0,834]
[4,"Ronald Gijzel",170,15,138,201,268,157,764,60,824]
[5,"Kees Ringelberg",187,10,201,201,176,201,779,40,819]
[6,"Johan van Nispen",180,10,150,164,205,231,750,40,790]
[7,"Stephan Vrijenhoek",203,0,215,191,192,164,762,0,762]
[8,"Guy Janssens",201,0,213,225,164,148,750,0,750]
[9,"Paul van Herpen",147,15,179,156,187,159,681,60,741]
[10,"Edwin Duinhouwer",162,15,166,142,180,170,658,60,718]
[11,"Wilbert Anthonisse",195,5,162,158,193,178,691,20,711]
[12,"Martin Koster",171,15,134,170,187,158,649,60,709]
[13,"Marco vd Visse",176,15,156,202,168,120,646,60,706]
[14,"Marion de Leux",170,15,189,139,163,154,645,60,705]
[15,"Toos van Nispen",167,15,152,159,160,173,644,60,704]
[16,"Andrea Ringelberg",157,15,174,141,115,156,586,60,646]
[17,"Edwin van Leeuwen",145,15,137,167,157,102,563,60,623]
[18,"Annette Koster",162,15,133,135,139,155,562,60,622]
[]
[null,"Bonus:","<180:    15",null,"180-189,99:    10",null,"190-199,99:    5",null,">200:    0"]
[]
[]
[null,"Sorteer voorronde"]

{"sheet":"Finale","index":2,"n_rows":64,"n_cols":12,"rows_kept":64,"cut":false,"hidden":false,"merged":[[65,0,65,11],[1,0,1,11],[60,7,60,11],[60,1,60,5],[26,0,26,11],[43,0,43,11],[55,0,55,12]]}
[]
["1/16 Finale Ronde"]
[null,null,"Bonus","Game 1","Game 2","Totaal",null,null,"Bonus","Game 1","Game 2","Totaal"]
[1,{"$f":"Voorronde!B3","v":"Henry v. Steenis"},{"$f":"Voorronde!D3*2","v":0},172,221,{"$f":"SUM(C4:E4)","v":393},6,{"$f":"Voorronde!B15","v":"Marco vd Visse"},{"$f":"Voorronde!D15*2","v":30},174,176,{"$f":"SUM(I4:K4)","v":380}]
[18,{"$f":"Voorronde!B20","v":"Annette Koster"},{"$f":"Voorronde!D20*2","v":30},139,158,{"$f":"SUM(C5:E5)","v":327},13,{"$f":"Voorronde!B8","v":"Johan van Nispen"},{"$f":"Voorronde!D8*2","v":20},156,201,{"$f":"SUM(I5:K5)","v":377}]
[]
[null,null,"Bonus","Game 1","Game 2","Totaal",null,null,"Bonus","Game 1","Game 2","Totaal"]
[2,{"$f":"Voorronde!B4","v":"Antoinette Gijzel"},{"$f":"Voorronde!D4*2","v":10},144,205,{"$f":"SUM(C8:E8)","v":359},7,{"$f":"Voorronde!B9","v":"Stephan Vrijenhoek"},{"$f":"Voorronde!D9*2","v":0},203,189,{"$f":"SUM(I8:K8)","v":392}]
[17,{"$f":"Voorronde!B19","v":"Edwin van Leeuwen"},{"$f":"Voorronde!D19*2","v":30},148,181,{"$f":"SUM(C9:E9)","v":359},12,{"$f":"Voorronde!B14","v":"Martin Koster"},{"$f":"Voorronde!D14*2","v":30},177,168,{"$f":"SUM(I9:K9)","v":375}]
[]
[null,null,"Bonus","Game 1","Game 2","Totaal",null,null,"Bonus","Game 1","Game 2","Totaal"]
[3,{"$f":"Voorronde!B5","v":"Camil Bosman"},{"$f":"Voorronde!D5*2","v":0},193,169,{"$f":"SUM(C12:E12)","v":362},8,{"$f":"Voorronde!B13","v":"Wilbert Anthonisse"},{"$f":"Voorronde!D13*2","v":10},174,182,{"$f":"SUM(I12:K12)","v":366}]
[16,{"$f":"Voorronde!B18","v":"Andrea Ringelberg"},{"$f":"Voorronde!D18*2","v":30},118,164,{"$f":"SUM(C13:E13)","v":312},11,{"$f":"Voorronde!B10","v":"Guy Janssens"},{"$f":"Voorronde!D10*2","v":0},202,139,{"$f":"SUM(I13:K13)","v":341}]
[]
[null,null,"Bonus","Game 1","Game 2","Totaal",null,null,"Bonus","Game 1","Game 2","Totaal"]
[4,{"$f":"Voorronde!B17","v":"Toos van Nispen"},{"$f":"Voorronde!D17*2","v":30},137,169,{"$f":"SUM(C16:E16)","v":336},9,{"$f":"Voorronde!B12","v":"Edwin Duinhouwer"},{"$f":"Voorronde!D12*2","v":30},159,177,{"$f":"SUM(I16:K16)","v":366}]
[15,{"$f":"Voorronde!B6","v":"Ronald Gijzel"},{"$f":"Voorronde!D6*2","v":30},135,127,{"$f":"SUM(C17:E17)","v":292},10,{"$f":"Voorronde!B11","v":"Paul van Herpen"},{"$f":"Voorronde!D11*2","v":30},145,166,{"$f":"SUM(I17:K17)","v":341}]
[]
[null,null,"Bonus","Game 1","Game 2","Totaal"]
[5,{"$f":"Voorronde!B7","v":"Kees Ringelberg"},{"$f":"Voorronde!D7*2","v":20},145,210,{"$f":"SUM(C20:E20)","v":375},null,null,"Door naar de volgende ronde"]
[14,{"$f":"Voorronde!B16","v":"Marion de Leux"},{"$f":"Voorronde!D16*2","v":30},133,161,{"$f":"SUM(C21:E21)","v":324},null,null,"Beste Verliezer = bv"]
[]
[null,"sorteer"]
[]
[]
[]
["1/8 Finale Ronde"]
[null,null,"Bonus","Game 1","Game 2","Totaal",null,null,"Bonus","Game 1","Game 2","Totaal"]
[1,{"$f":"formule!B14","v":"Johan van Nispen"},{"$f":"formule!C14","v":20},167,152,{"$f":"SUM(C29:E29)","v":339},4,{"$f":"formule!B6","v":"Kees Ringelberg"},{"$f":"formule!C6","v":20},190,164,{"$f":"SUM(I29:K29)","v":374}]
[10,{"$f":"formule!B3","v":"Henry v. Steenis"},{"$f":"formule!C3","v":0},191,140,{"$f":"SUM(C30:E30)","v":331},7,{"$f":"formule!B9","v":"Camil Bosman"},{"$f":"formule!C9","v":0},137,192,{"$f":"SUM(I30:K30)","v":329}]
[]
[null,null,"Bonus","Game 1","Game 2","Totaal",null,null,"Bonus","Game 1","Game 2","Totaal"]
[2,{"$f":"formule!B4","v":"Stephan Vrijenhoek"},{"$f":"formule!C4","v":0},184,209,{"$f":"SUM(C33:E33)","v":393},5,{"$f":"formule!B7","v":"Wilbert Anthonisse"},{"$f":"formule!C7","v":10},189,211,{"$f":"SUM(I33:K33)","v":410}]
[9,{"$f":"formule!B11","v":"Toos van Nispen"},{"$f":"formule!C11","v":30},145,181,{"$f":"SUM(C34:E34)","v":356},6,{"$f":"formule!B8","v":"Edwin Duinhouwer"},{"$f":"formule!C8","v":30},172,129,{"$f":"SUM(I34:K34)","v":331}]
[]
[null,null,"Bonus","Game 1","Game 2","Totaal"]
[3,{"$f":"formule!B5","v":"Marco vd Visse"},{"$f":"formule!C5","v":30},210,169,{"$f":"SUM(C37:E37)","v":409}]
[8,{"$f":"formule!B10","v":"Antoinette Gijzel"},{"$f":"formule!C10","v":10},171,181,{"$f":"SUM(C38:E38)","v":362}]
[]
[null,"sorteer"]
[]
[]
[]
["1/4 Finale Ronde"]
[null,null,"Bonus","Game 1","Game 2","Totaal",null,null,"Bonus","Game 1","Game 2","Totaal"]
[1,{"$f":"formule!B26","v":"Wilbert Anthonisse"},{"$f":"formule!C26","v":10},222,166,{"$f":"SUM(C46:E46)","v":398},3,{"$f":"formule!B29","v":"Kees Ringelberg"},{"$f":"formule!C29","v":20},200,180,{"$f":"SUM(I46:K46)","v":400}]
[6,{"$f":"formule!B33","v":"Antoinette Gijzel"},{"$f":"formule!C33","v":10},196,190,{"$f":"SUM(C47:E47)","v":396},4,{"$f":"formule!B28","v":"Stephan Vrijenhoek"},{"$f":"formule!C28","v":0},235,149,{"$f":"SUM(I47:K47)","v":384}]
[]
[null,null,"Bonus","Game 1","Game 2","Totaal"]
[2,{"$f":"formule!B30","v":"Johan van Nispen"},{"$f":"formule!C30","v":20},163,199,{"$f":"SUM(C50:E50)","v":382}]
[5,{"$f":"formule!B27","v":"Marco vd Visse"},{"$f":"formule!C27","v":30},158,153,{"$f":"SUM(C51:E51)","v":341}]
[]
[null,"sorteer"]
[]
[]
["1/2 Finale Ronde"]
[null,null,"Bonus","Game 1","Game 2","Totaal",null,null,"Bonus","Game 1","Game 2","Totaal"]
[1,{"$f":"formule!B41","v":"Kees Ringelberg"},{"$f":"formule!C41","v":20},null,null,{"$f":"SUM(C58:E58)","v":20},2,{"$f":"formule!B42","v":"Wilbert Anthonisse"},{"$f":"formule!C42","v":10},null,null,{"$f":"SUM(I58:K58)","v":10}]
[4,{"$f":"formule!B46","v":"Antoinette Gijzel"},{"$f":"formule!C46","v":10},null,null,{"$f":"SUM(C59:E59)","v":10},3,{"$f":"formule!B43","v":"Johan van Nispen"},{"$f":"formule!C43","v":20},null,null,{"$f":"SUM(I59:K59)","v":20}]
[]
[null,"Troost Finale",null,null,null,null,null,"Finale"]
[null,null,"Bonus","Game 1","Game 2","Totaal",null,null,"Bonus","Game 1","Game 2","Totaal"]
[3,{"$f":"H59","v":"Johan van Nispen"},{"$f":"I59","v":20},null,null,{"$f":"SUM(C63:E63)","v":20},1,{"$f":"formule!B52","v":"Kees Ringelberg"},{"$f":"formule!C52","v":20},null,null,{"$f":"SUM(I63:K63)","v":20}]
[4,{"$f":"B59","v":"Antoinette Gijzel"},{"$f":"C59","v":10},null,null,{"$f":"SUM(C64:E64)","v":10},2,{"$f":"formule!B53","v":"Wilbert Anthonisse"},{"$f":"formule!C53","v":10},null,null,{"$f":"SUM(I64:K64)","v":10}]

{"sheet":"Eindstand","index":3,"n_rows":10,"n_cols":4,"rows_kept":10,"cut":false,"hidden":false,"merged":[[0,0,0,9],[11,0,11,3]]}
[]
[1,{"$f":"Finale!H63","v":"Kees Ringelberg"},10,{"$f":"formule!B37","v":"Camil Bosman"}]
[2,{"$f":"Finale!H64","v":"Wilbert Anthonisse"},11,{"$f":"formule!B15","v":"Martin Koster"}]
[3,{"$f":"Finale!B63","v":"Johan van Nispen"},12,{"$f":"formule!B16","v":"Edwin van Leeuwen"}]
[4,{"$f":"Finale!B64","v":"Antoinette Gijzel"},13,{"$f":"formule!B17","v":"Paul van Herpen"}]
[5,{"$f":"formule!B47","v":"Marco vd Visse"},14,{"$f":"formule!B18","v":"Guy Janssens"}]
[6,{"$f":"formule!B48","v":"Stephan Vrijenhoek"},15,{"$f":"formule!B19","v":"Annette Koster"}]
[7,{"$f":"formule!B34","v":"Toos van Nispen"},16,{"$f":"formule!B20","v":"Marion de Leux"}]
[8,{"$f":"formule!B35","v":"Henry v. Steenis"},17,{"$f":"formule!B21","v":"Andrea Ringelberg"}]
[9,{"$f":"formule!B36","v":"Edwin Duinhouwer"},18,{"$f":"formule!B22","v":"Ronald Gijzel"}]

{"sheet":"formule","index":4,"n_rows":67,"n_cols":9,"rows_kept":67,"cut":false,"hidden":false,"merged":[[52,7,52,9],[56,7,56,9],[63,1,63,5],[0,0,0,5],[23,2,23,7],[38,0,38,5],[49,0,49,5],[58,1,58,5],[13,7,13,9],[32,7,32,9],[45,7,45,9]]}
["1/16 Finale"]
[null,null,"bonus","game 1","game 2","totaal"]
[1,{"$f":"Finale!B4","v":"Henry v. Steenis"},{"$f":"Finale!C4","v":0},{"$f":"Finale!D4","v":172},{"$f":"Finale!E4","v":221},{"$f":"SUM(C3:E3)","v":393}]
[2,{"$f":"Finale!H8","v":"Stephan Vrijenhoek"},{"$f":"Finale!I8","v":0},{"$f":"Finale!J8","v":203},{"$f":"Finale!K8","v":189},392]
[3,{"$f":"Finale!H4","v":"Marco vd Visse"},{"$f":"Finale!I4","v":30},{"$f":"Finale!J4","v":174},{"$f":"Finale!K4","v":176},380]
[4,{"$f":"Finale!B20","v":"Kees Ringelberg"},{"$f":"Finale!C20","v":20},{"$f":"Finale!D20","v":145},{"$f":"Finale!E20","v":210},375]
[5,{"$f":"Finale!H12","v":"Wilbert Anthonisse"},{"$f":"Finale!I12","v":10},{"$f":"Finale!J12","v":174},{"$f":"Finale!K12","v":182},366]
[6,{"$f":"Finale!H16","v":"Edwin Duinhouwer"},{"$f":"Finale!I16","v":30},{"$f":"Finale!J16","v":159},{"$f":"Finale!K16","v":177},366,null,null,"Sorteer winnaars"]
[7,{"$f":"Finale!B12","v":"Camil Bosman"},{"$f":"Finale!C12","v":0},{"$f":"Finale!D12","v":193},{"$f":"Finale!E12","v":169},362]
[8,{"$f":"Finale!B8","v":"Antoinette Gijzel"},{"$f":"Finale!C8","v":10},{"$f":"Finale!D8","v":144},{"$f":"Finale!E8","v":205},359]
[9,{"$f":"Finale!B16","v":"Toos van Nispen"},{"$f":"Finale!C16","v":30},{"$f":"Finale!D16","v":137},{"$f":"Finale!E16","v":169},336]
[]
[null,null,"bonus","game 1","game 2","totaal"]
[10,{"$f":"Finale!H5","v":"Johan van Nispen"},{"$f":"Finale!I5","v":20},{"$f":"Finale!J5","v":156},{"$f":"Finale!K5","v":201},{"$f":"SUM(C14:E14)","v":377},null,"Beste Verliezer"]
[11,{"$f":"Finale!H9","v":"Martin Koster"},{"$f":"Finale!I9","v":30},{"$f":"Finale!J9","v":177},{"$f":"Finale!K9","v":168},375]
[12,{"$f":"Finale!B9","v":"Edwin van Leeuwen"},{"$f":"Finale!C9","v":30},{"$f":"Finale!D9","v":148},{"$f":"Finale!E9","v":181},359]
[13,{"$f":"Finale!H17","v":"Paul van Herpen"},{"$f":"Finale!I17","v":30},{"$f":"Finale!J17","v":145},{"$f":"Finale!K17","v":166},341]
[14,{"$f":"Finale!H13","v":"Guy Janssens"},{"$f":"Finale!I13","v":0},{"$f":"Finale!J13","v":202},{"$f":"Finale!K13","v":139},341,null,null,"Sorteer verliezers"]
[15,{"$f":"Finale!B5","v":"Annette Koster"},{"$f":"Finale!C5","v":30},{"$f":"Finale!D5","v":139},{"$f":"Finale!E5","v":158},327]
[16,{"$f":"Finale!B21","v":"Marion de Leux"},{"$f":"Finale!C21","v":30},{"$f":"Finale!D21","v":133},{"$f":"Finale!E21","v":161},324]
[17,{"$f":"Finale!B13","v":"Andrea Ringelberg"},{"$f":"Finale!C13","v":30},{"$f":"Finale!D13","v":118},{"$f":"Finale!E13","v":164},312]
[18,{"$f":"Finale!B17","v":"Ronald Gijzel"},{"$f":"Finale!C17","v":30},{"$f":"Finale!D17","v":135},{"$f":"Finale!E17","v":127},292]
[]
[null,null,"1/8 Finale"]
[null,null,"bonus","game 1","game 2","totaal"]
[1,{"$f":"Finale!H33","v":"Wilbert Anthonisse"},{"$f":"Finale!I33","v":10},{"$f":"Finale!J33","v":189},{"$f":"Finale!K33","v":211},{"$f":"SUM(C26:E26)","v":410}]
[2,{"$f":"Finale!B37","v":"Marco vd Visse"},{"$f":"Finale!C37","v":30},{"$f":"Finale!D37","v":210},{"$f":"Finale!E37","v":169},{"$f":"SUM(C27:E27)","v":409}]
[3,{"$f":"Finale!B33","v":"Stephan Vrijenhoek"},{"$f":"Finale!C33","v":0},{"$f":"Finale!D33","v":184},{"$f":"Finale!E33","v":209},{"$f":"SUM(C28:E28)","v":393},null,null,"sorteer winnaars"]
[4,{"$f":"Finale!H29","v":"Kees Ringelberg"},{"$f":"Finale!I29","v":20},{"$f":"Finale!J29","v":190},{"$f":"Finale!K29","v":164},{"$f":"SUM(C29:E29)","v":374}]
[5,{"$f":"Finale!B29","v":"Johan van Nispen"},{"$f":"Finale!C29","v":20},{"$f":"Finale!D29","v":167},{"$f":"Finale!E29","v":152},{"$f":"SUM(C30:E30)","v":339}]
[]
[null,null,"bonus","game 1","game 2","totaal"]
[6,{"$f":"Finale!B38","v":"Antoinette Gijzel"},{"$f":"Finale!C38","v":10},{"$f":"Finale!D38","v":171},{"$f":"Finale!E38","v":181},{"$f":"SUM(C33:E33)","v":362},null,"Beste Verliezer"]
[7,{"$f":"Finale!B34","v":"Toos van Nispen"},{"$f":"Finale!C34","v":30},{"$f":"Finale!D34","v":145},{"$f":"Finale!E34","v":181},{"$f":"SUM(C34:E34)","v":356}]
[8,{"$f":"Finale!B30","v":"Henry v. Steenis"},{"$f":"Finale!C30","v":0},{"$f":"Finale!D30","v":191},{"$f":"Finale!E30","v":140},{"$f":"SUM(C35:E35)","v":331}]
[9,{"$f":"Finale!H34","v":"Edwin Duinhouwer"},{"$f":"Finale!I34","v":30},{"$f":"Finale!J34","v":172},{"$f":"Finale!K34","v":129},{"$f":"SUM(C36:E36)","v":331},null,null,"sorteer verliezers"]
[10,{"$f":"Finale!H30","v":"Camil Bosman"},{"$f":"Finale!I30","v":0},{"$f":"Finale!J30","v":137},{"$f":"Finale!K30","v":192},{"$f":"SUM(C37:E37)","v":329}]
[]
["1/4 Finale"]
[null,null,"bonus","game 1","game 2","totaal"]
[1,{"$f":"Finale!H46","v":"Kees Ringelberg"},{"$f":"Finale!I46","v":20},{"$f":"Finale!J46","v":200},{"$f":"Finale!K46","v":180},{"$f":"SUM(C41:E41)","v":400}]
[2,{"$f":"Finale!B46","v":"Wilbert Anthonisse"},{"$f":"Finale!C46","v":10},{"$f":"Finale!D46","v":222},{"$f":"Finale!E46","v":166},{"$f":"SUM(C42:E42)","v":398}]
[3,{"$f":"Finale!B50","v":"Johan van Nispen"},{"$f":"Finale!C50","v":20},{"$f":"Finale!D50","v":163},{"$f":"Finale!E50","v":199},{"$f":"SUM(C43:E43)","v":382}]
[null,null,null,null,null,null,null,null,"sorteer kwartfinale"]
[null,null,"bonus","game 1","game 2","totaal"]
[4,{"$f":"Finale!B47","v":"Antoinette Gijzel"},{"$f":"Finale!C47","v":10},{"$f":"Finale!D47","v":196},{"$f":"Finale!E47","v":190},{"$f":"SUM(C46:E46)","v":396},null,"Beste Verliezer"]
[5,{"$f":"Finale!B51","v":"Marco vd Visse"},{"$f":"Finale!C51","v":30},{"$f":"Finale!D51","v":158},{"$f":"Finale!E51","v":153},{"$f":"SUM(C47:E47)","v":341}]
[6,{"$f":"Finale!H47","v":"Stephan Vrijenhoek"},{"$f":"Finale!I47","v":0},{"$f":"Finale!D59","v":0},{"$f":"Finale!E59","v":0},{"$f":"SUM(C48:E48)","v":0}]
[]
["1/2 Finale"]
[null,null,"bonus","game 1","game 2","totaal"]
[1,{"$f":"Finale!B58","v":"Kees Ringelberg"},{"$f":"Finale!C58","v":20},{"$f":"Finale!D58","v":0},{"$f":"Finale!E58","v":0},{"$f":"SUM(C52:E52)","v":20}]
[2,{"$f":"Finale!H58","v":"Wilbert Anthonisse"},{"$f":"Finale!I58","v":10},{"$f":"Finale!J58","v":0},{"$f":"Finale!K58","v":0},{"$f":"SUM(C53:E53)","v":10},null,"Troost Finale"]
[]
[null,null,"bonus","game 1","game 2","totaal"]
[3,{"$f":"Finale!H59","v":"Johan van Nispen"},{"$f":"Finale!I59","v":20},{"$f":"Finale!J59","v":0},{"$f":"Finale!K59","v":0},{"$f":"SUM(C56:E56)","v":20}]
[4,{"$f":"Finale!B59","v":"Antoinette Gijzel"},{"$f":"Finale!I47","v":0},{"$f":"Finale!D59","v":0},{"$f":"Finale!E59","v":0},{"$f":"SUM(C57:E57)","v":0},null,"Troost Finale"]
[]
[null,"TroostFinale"]
[null,null,"bonus","game 1","game 2","totaal"]
[3,{"$f":"Finale!B59","v":"Antoinette Gijzel"},{"$f":"Finale!C59","v":10},{"$f":"Finale!D64","v":0},{"$f":"Finale!E64","v":0},{"$f":"SUM(C61:E61)","v":10}]
[4,{"$f":"Finale!H59","v":"Johan van Nispen"},{"$f":"Finale!I59","v":20},{"$f":"Finale!D63","v":0},{"$f":"Finale!E63","v":0},{"$f":"SUM(C62:E62)","v":20}]
[]
[null,"Finale"]
[null,null,"bonus","game 1","game 2","totaal"]
[1,{"$f":"Finale!H63","v":"Kees Ringelberg"},{"$f":"Finale!I63","v":20},{"$f":"Finale!J63","v":0},{"$f":"Finale!K63","v":0},{"$f":"SUM(C66:E66)","v":20}]
[2,{"$f":"Finale!H64","v":"Wilbert Anthonisse"},{"$f":"Finale!I64","v":10},{"$f":"Finale!J64","v":0},{"$f":"Finale!K64","v":0},{"$f":"SUM(C67:E67)","v":10}]

{"sheet":"Score Briefjes","index":5,"n_rows":226,"n_cols":14,"rows_kept":226,"cut":false,"hidden":false,"merged":[[225,7,226,7],[225,8,226,8],[225,10,226,10],[225,11,226,11],[225,12,226,12],[225,13,226,13],[221,8,222,8],[223,0,223,3],[223,5,223,8],[223,10,223,13],[225,0,226,0],[225,1,226,1],[225,2,226,2],[225,3,226,3],[225,5,226,5],[225,6,226,6],[219,0,219,3],[219,5,219,8],[221,0,222,0],[221,1,222,1],[221,2,222,2],[221,3,222,3],[221,5,222,5],[221,6,222,6],[221,7,222,7],[216,0,216,1],[217,0,217,1],[217,2,218,2],[217,3,218,3],[217,4,218,4],[217,5,218,5],[217,6,218,6],[217,7,218,7],[208,7,209,7],[208,8,209,8],[210,0,210,3],[210,5,210,8],[208,0,209,0],[208,1,209,1],[208,2,209,2],[208,3,209,3],[212,0,213,0],[212,1,213,1],[212,2,213,2],[212,3,213,3],[212,5,213,5],[217,8,218,8],[218,0,218,1],[208,5,209,5],[208,6,209,6],[212,13,213,13],[212,6,213,6],[212,7,213,7],[212,8,213,8],[212,10,213,10],[212,11,213,11],[212,12,213,12],[210,10,210,13],[204,4,205,4],[204,5,205,5],[204,6,205,6],[204,7,205,7],[204,8,205,8],[205,0,205,1],[199,7,200,7],[199,8,200,8],[199,10,200,10],[199,11,200,11],[206,0,206,3],[206,5,206,8],[203,0,203,1],[204,0,204,1],[204,2,205,2],[204,3,205,3],[199,12,200,12],[199,13,200,13],[195,8,196,8],[197,0,197,3],[197,5,197,8],[197,10,197,13],[199,0,200,0],[199,1,200,1],[199,2,200,2],[199,3,200,3],[199,5,200,5],[199,6,200,6],[193,0,193,3],[193,5,193,8],[195,0,196,0],[195,1,196,1],[195,2,196,2],[195,3,196,3],[195,5,196,5],[195,6,196,6],[195,7,196,7],[190,0,190,1],[191,0,191,1],[191,2,192,2],[191,3,192,3],[191,4,192,4],[191,5,192,5],[191,6,192,6],[191,7,192,7],[183,7,184,7],[183,8,184,8],[185,0,185,3],[185,5,185,8],[183,0,184,0],[183,1,184,1],[183,2,184,2],[183,3,184,3],[187,0,188,0],[187,1,188,1],[187,2,188,2],[187,3,188,3],[187,5,188,5],[191,8,192,8],[192,0,192,1],[183,5,184,5],[183,6,184,6],[187,13,188,13],[187,6,188,6],[187,7,188,7],[187,8,188,8],[187,10,188,10],[187,11,188,11],[187,12,188,12],[185,10,185,13],[179,4,180,4],[179,5,180,5],[179,6,180,6],[179,7,180,7],[179,8,180,8],[180,0,180,1],[174,7,175,7],[174,8,175,8],[174,10,175,10],[174,11,175,11],[181,0,181,3],[181,5,181,8],[178,0,178,1],[179,0,179,1],[179,2,180,2],[179,3,180,3],[174,12,175,12],[174,13,175,13],[170,8,171,8],[172,0,172,3],[172,5,172,8],[172,10,172,13],[174,0,175,0],[174,1,175,1],[174,2,175,2],[174,3,175,3],[174,5,175,5],[174,6,175,6],[168,0,168,3],[168,5,168,8],[170,0,171,0],[170,1,171,1],[170,2,171,2],[170,3,171,3],[170,5,171,5],[170,6,171,6],[170,7,171,7],[165,0,165,1],[166,0,166,1],[166,2,167,2],[166,3,167,3],[166,4,167,4],[166,5,167,5],[166,6,167,6],[166,7,167,7],[157,7,158,7],[157,8,158,8],[159,0,159,3],[159,5,159,8],[157,0,158,0],[157,1,158,1],[157,2,158,2],[157,3,158,3],[161,0,162,0],[161,1,162,1],[161,2,162,2],[161,3,162,3],[161,5,162,5],[166,8,167,8],[167,0,167,1],[157,5,158,5],[157,6,158,6],[161,13,162,13],[161,6,162,6],[161,7,162,7],[161,8,162,8],[161,10,162,10],[161,11,162,11],[161,12,162,12],[159,10,159,13],[153,4,154,4],[153,5,154,5],[153,6,154,6],[153,7,154,7],[153,8,154,8],[154,0,154,1],[149,7,150,7],[149,8,150,8],[149,10,150,10],[149,11,150,11],[155,0,155,3],[155,5,155,8],[152,0,152,1],[153,0,153,1],[153,2,154,2],[153,3,154,3],[149,12,150,12],[149,13,150,13],[145,8,146,8],[147,0,147,3],[147,5,147,8],[147,10,147,13],[149,0,150,0],[149,1,150,1],[149,2,150,2],[149,3,150,3],[149,5,150,5],[149,6,150,6],[143,0,143,3],[143,5,143,8],[145,0,146,0],[145,1,146,1],[145,2,146,2],[145,3,146,3],[145,5,146,5],[145,6,146,6],[145,7,146,7],[140,0,140,1],[141,0,141,1],[141,2,142,2],[141,3,142,3],[141,4,142,4],[141,5,142,5],[141,6,142,6],[141,7,142,7],[132,7,133,7],[132,8,133,8],[134,0,134,3],[134,5,134,8],[132,0,133,0],[132,1,133,1],[132,2,133,2],[132,3,133,3],[136,0,137,0],[136,1,137,1],[136,2,137,2],[136,3,137,3],[136,5,137,5],[141,8,142,8],[142,0,142,1],[132,5,133,5],[132,6,133,6],[136,13,137,13],[136,6,137,6],[136,7,137,7],[136,8,137,8],[136,10,137,10],[136,11,137,11],[136,12,137,12],[134,10,134,13],[128,4,129,4],[128,5,129,5],[128,6,129,6],[128,7,129,7],[128,8,129,8],[129,0,129,1],[123,7,124,7],[123,8,124,8],[123,10,124,10],[123,11,124,11],[130,0,130,3],[130,5,130,8],[127,0,127,1],[128,0,128,1],[128,2,129,2],[128,3,129,3],[123,12,124,12],[123,13,124,13],[119,8,120,8],[121,0,121,3],[121,5,121,8],[121,10,121,13],[123,0,124,0],[123,1,124,1],[123,2,124,2],[123,3,124,3],[123,5,124,5],[123,6,124,6],[117,0,117,3],[117,5,117,8],[119,0,120,0],[119,1,120,1],[119,2,120,2],[119,3,120,3],[119,5,120,5],[119,6,120,6],[119,7,120,7],[114,0,114,1],[115,0,115,1],[115,2,116,2],[115,3,116,3],[115,4,116,4],[115,5,116,5],[115,6,116,6],[115,7,116,7],[107,7,108,7],[107,8,108,8],[109,0,109,3],[109,5,109,8],[107,0,108,0],[107,1,108,1],[107,2,108,2],[107,3,108,3],[111,0,112,0],[111,1,112,1],[111,2,112,2],[111,3,112,3],[111,5,112,5],[115,8,116,8],[116,0,116,1],[107,5,108,5],[107,6,108,6],[111,13,112,13],[111,6,112,6],[111,7,112,7],[111,8,112,8],[111,10,112,10],[111,11,112,11],[111,12,112,12],[109,10,109,13],[103,4,104,4],[103,5,104,5],[103,6,104,6],[103,7,104,7],[103,8,104,8],[104,0,104,1],[98,7,99,7],[98,8,99,8],[98,10,99,10],[98,11,99,11],[105,0,105,3],[105,5,105,8],[102,0,102,1],[103,0,103,1],[103,2,104,2],[103,3,104,3],[98,12,99,12],[98,13,99,13],[94,8,95,8],[96,0,96,3],[96,5,96,8],[96,10,96,13],[98,0,99,0],[98,1,99,1],[98,2,99,2],[98,3,99,3],[98,5,99,5],[98,6,99,6],[92,0,92,3],[92,5,92,8],[94,0,95,0],[94,1,95,1],[94,2,95,2],[94,3,95,3],[94,5,95,5],[94,6,95,6],[94,7,95,7],[89,0,89,1],[90,0,90,1],[90,2,91,2],[90,3,91,3],[90,4,91,4],[90,5,91,5],[90,6,91,6],[90,7,91,7],[81,7,82,7],[81,8,82,8],[83,0,83,3],[83,5,83,8],[81,0,82,0],[81,1,82,1],[81,2,82,2],[81,3,82,3],[85,0,86,0],[85,1,86,1],[85,2,86,2],[85,3,86,3],[85,5,86,5],[90,8,91,8],[91,0,91,1],[81,5,82,5],[81,6,82,6],[85,13,86,13],[85,6,86,6],[85,7,86,7],[85,8,86,8],[85,10,86,10],[85,11,86,11],[85,12,86,12],[83,10,83,13],[77,4,78,4],[77,5,78,5],[77,6,78,6],[77,7,78,7],[77,8,78,8],[78,0,78,1],[73,7,74,7],[73,8,74,8],[73,10,74,10],[73,11,74,11],[79,0,79,3],[79,5,79,8],[76,0,76,1],[77,0,77,1],[77,2,78,2],[77,3,78,3],[73,12,74,12],[73,13,74,13],[69,8,70,8],[71,0,71,3],[71,5,71,8],[71,10,71,13],[73,0,74,0],[73,1,74,1],[73,2,74,2],[73,3,74,3],[73,5,74,5],[73,6,74,6],[67,0,67,3],[67,5,67,8],[69,0,70,0],[69,1,70,1],[69,2,70,2],[69,3,70,3],[69,5,70,5],[69,6,70,6],[69,7,70,7],[64,0,64,1],[65,0,65,1],[65,2,66,2],[65,3,66,3],[65,4,66,4],[65,5,66,5],[65,6,66,6],[65,7,66,7],[65,8,66,8],[66,0,66,1],[56,7,57,7],[56,8,57,8],[58,0,58,3],[58,5,58,8],[56,0,57,0],[56,1,57,1],[56,2,57,2],[56,3,57,3],[58,10,58,13],[60,0,61,0],[60,1,61,1],[60,2,61,2],[60,3,61,3],[60,5,61,5],[60,13,61,13],[60,6,61,6],[60,7,61,7],[60,8,61,8],[60,10,61,10],[60,11,61,11],[60,12,61,12],[52,6,53,6],[52,7,53,7],[52,8,53,8],[53,0,53,1],[56,5,57,5],[56,6,57,6],[47,10,48,10],[47,11,48,11],[54,0,54,3],[54,5,54,8],[51,0,51,1],[52,0,52,1],[52,2,53,2],[52,3,53,3],[52,4,53,4],[52,5,53,5],[47,12,48,12],[47,13,48,13],[47,0,48,0],[47,1,48,1],[47,2,48,2],[47,3,48,3],[47,5,48,5],[47,6,48,6],[47,7,48,7],[47,8,48,8],[40,0,40,1],[41,0,41,3],[41,5,41,8],[43,0,44,0],[43,1,44,1],[43,2,44,2],[43,3,44,3],[43,6,44,6],[43,7,44,7],[43,8,44,8],[39,2,40,2],[39,3,40,3],[39,4,40,4],[45,10,45,13],[39,7,40,7],[39,8,40,8],[45,0,45,3],[45,5,45,8],[43,5,44,5],[35,7,36,7],[35,11,36,11],[35,12,36,12],[35,13,36,13],[38,0,38,1],[39,5,40,5],[39,6,40,6],[35,8,36,8],[35,10,36,10],[39,0,39,1],[31,7,32,7],[33,0,33,3],[33,5,33,8],[33,10,33,13],[35,0,36,0],[35,1,36,1],[35,2,36,2],[35,3,36,3],[35,5,36,5],[35,6,36,6],[31,0,32,0],[31,1,32,1],[31,2,32,2],[31,3,32,3],[31,5,32,5],[31,6,32,6],[27,6,28,6],[27,7,28,7],[27,8,28,8],[28,0,28,1],[26,0,26,1],[29,0,29,3],[29,5,29,8],[22,6,23,6],[22,7,23,7],[22,8,23,8],[22,10,23,10],[31,8,32,8],[27,0,27,1],[27,2,28,2],[27,3,28,3],[27,4,28,4],[27,5,28,5],[14,0,14,1],[15,0,15,1],[14,2,15,2],[14,3,15,3],[20,10,20,13],[22,0,23,0],[22,1,23,1],[22,2,23,2],[22,3,23,3],[22,5,23,5],[14,4,15,4],[14,5,15,5],[14,6,15,6],[14,7,15,7],[22,13,23,13],[13,0,13,1],[22,11,23,11],[22,12,23,12],[20,0,20,3],[20,5,20,8],[16,0,16,3],[16,5,16,8],[18,0,19,0],[18,1,19,1],[18,2,19,2],[18,3,19,3],[18,5,19,5],[18,6,19,6],[18,7,19,7],[18,8,19,8],[9,8,10,8],[7,10,7,13],[9,10,10,10],[9,11,10,11],[9,12,10,12],[9,13,10,13],[14,8,15,8],[7,0,7,3],[7,5,7,8],[9,0,10,0],[9,1,10,1],[9,2,10,2],[9,3,10,3],[9,5,10,5],[9,6,10,6],[9,7,10,7],[3,5,3,8],[1,8,2,8],[1,5,2,5],[1,6,2,6],[1,7,2,7],[5,5,6,5],[5,6,6,6],[5,0,6,0],[5,1,6,1],[5,2,6,2],[5,3,6,3],[5,7,6,7],[5,8,6,8],[1,4,2,4],[0,0,0,1],[1,0,1,1],[2,0,2,1],[3,0,3,3],[1,3,2,3],[1,2,2,2]]}
[null,null,"Bonus/gm","Game 1","Game 2","Game 3","Game 4","Bonus/tot","Totaal"]
["Martin",null,15,null,null,null,null,60]
["Koster"]
["1/16 Finale",null,null,null,null,"1/8 Finale"]
["Game 1","Game 2","Bonus","Tegenst.",null,"Game 1","Game 2","Bonus","Tegenst."]
[null,null,30,null,null,null,null,30]
[]
["1/4 Finale",null,null,null,null,"1/2 Finale",null,null,null,null,"Finale"]
["Game 1","Game 2","Bonus","Tegenst.",null,"Game 1","Game 2","Bonus","Tegenst.",null,"Game 1","Game 2","Bonus","Tegenst."]
[null,null,30,null,null,null,null,30,null,null,null,null,30]
[]
[]
[]
[null,null,"Bonus/gm","Game 1","Game 2","Game 3","Game 4","Bonus/tot","Totaal"]
["Annette",null,15,null,null,null,null,60]
["Koster"]
["1/16 Finale",null,null,null,null,"1/8 Finale"]
["Game 1","Game 2","Bonus","Tegenst.",null,"Game 1","Game 2","Bonus","Tegenst."]
[null,null,30,null,null,null,null,30]
[]
["1/4 Finale",null,null,null,null,"1/2 Finale",null,null,null,null,"Finale"]
["Game 1","Game 2","Bonus","Tegenst.",null,"Game 1","Game 2","Bonus","Tegenst.",null,"Game 1","Game 2","Bonus","Tegenst."]
[null,null,30,null,null,null,null,30,null,null,null,null,30]
[]
[]
[]
[null,null,"Bonus/gm","Game 1","Game 2","Game 3","Game 4","Bonus/tot","Totaal"]
["Antoinette",null,5,null,null,null,null,20]
["Gijzel-Schijf"]
["1/16 Finale",null,null,null,null,"1/8 Finale"]
["Game 1","Game 2","Bonus","Tegenst.",null,"Game 1","Game 2","Bonus","Tegenst."]
[null,null,10,null,null,null,null,10]
[]
["1/4 Finale",null,null,null,null,"1/2 Finale",null,null,null,null,"Finale"]
["Game 1","Game 2","Bonus","Tegenst.",null,"Game 1","Game 2","Bonus","Tegenst.",null,"Game 1","Game 2","Bonus","Tegenst."]
[null,null,10,null,null,null,null,10,null,null,null,null,10]
[]
[]
[null,null,"Bonus/gm","Game 1","Game 2","Game 3","Game 4","Bonus/tot","Totaal"]
["Ronald ",null,15,null,null,null,null,60]
["Gijzel"]
["1/16 Finale",null,null,null,null,"1/8 Finale"]
["Game 1","Game 2","Bonus","Tegenst.",null,"Game 1","Game 2","Bonus","Tegenst."]
[null,null,30,null,null,null,null,30]
[]
["1/4 Finale",null,null,null,null,"1/2 Finale",null,null,null,null,"Finale"]
["Game 1","Game 2","Bonus","Tegenst.",null,"Game 1","Game 2","Bonus","Tegenst.",null,"Game 1","Game 2","Bonus","Tegenst."]
[null,null,30,null,null,null,null,30,null,null,null,null,30]
[]
[]
[]
[null,null,"Bonus/gm","Game 1","Game 2","Game 3","Game 4","Bonus/tot","Totaal"]
["Johan",null,10,null,null,null,null,40]
["van Nispen"]
["1/16 Finale",null,null,null,null,"1/8 Finale"]
["Game 1","Game 2","Bonus","Tegenst.",null,"Game 1","Game 2","Bonus","Tegenst."]
[null,null,20,null,null,null,null,20]
[]
["1/4 Finale",null,null,null,null,"1/2 Finale",null,null,null,null,"Finale"]
["Game 1","Game 2","Bonus","Tegenst.",null,"Game 1","Game 2","Bonus","Tegenst.",null,"Game 1","Game 2","Bonus","Tegenst."]
[null,null,20,null,null,null,null,20,null,null,null,null,20]
[]
[]
[]
[null,null,"Bonus/gm","Game 1","Game 2","Game 3","Game 4","Bonus/tot","Totaal"]
["Toos",null,15,null,null,null,null,60]
["van Nispen"]
["1/16 Finale",null,null,null,null,"1/8 Finale"]
["Game 1","Game 2","Bonus","Tegenst.",null,"Game 1","Game 2","Bonus","Tegenst."]
[null,null,30,null,null,null,null,30]
[]
["1/4 Finale",null,null,null,null,"1/2 Finale",null,null,null,null,"Finale"]
["Game 1","Game 2","Bonus","Tegenst.",null,"Game 1","Game 2","Bonus","Tegenst.",null,"Game 1","Game 2","Bonus","Tegenst."]
[null,null,30,null,null,null,null,30,null,null,null,null,30]
[]
[]
[null,null,"Bonus/gm","Game 1","Game 2","Game 3","Game 4","Bonus/tot","Totaal"]
["Marion",null,15,null,null,null,null,60]
["de Leux"]
["1/16 Finale",null,null,null,null,"1/8 Finale"]
["Game 1","Game 2","Bonus","Tegenst.",null,"Game 1","Game 2","Bonus","Tegenst."]
[null,null,30,null,null,null,null,30]
[]
["1/4 Finale",null,null,null,null,"1/2 Finale",null,null,null,null,"Finale"]
["Game 1","Game 2","Bonus","Tegenst.",null,"Game 1","Game 2","Bonus","Tegenst.",null,"Game 1","Game 2","Bonus","Tegenst."]
[null,null,30,null,null,null,null,30,null,null,null,null,30]
[]
[]
[]
[null,null,"Bonus/gm","Game 1","Game 2","Game 3","Game 4","Bonus/tot","Totaal"]
["Wilbert Anthonisse",null,5,null,null,null,null,20]
["Achternaam"]
["1/16 Finale",null,null,null,null,"1/8 Finale"]
["Game 1","Game 2","Bonus","Tegenst.",null,"Game 1","Game 2","Bonus","Tegenst."]
[null,null,10,null,null,null,null,10]
[]
["1/4 Finale",null,null,null,null,"1/2 Finale",null,null,null,null,"Finale"]
["Game 1","Game 2","Bonus","Tegenst.",null,"Game 1","Game 2","Bonus","Tegenst.",null,"Game 1","Game 2","Bonus","Tegenst."]
[null,null,10,null,null,null,null,10,null,null,null,null,10]
[]
[]
[]
[null,null,"Bonus/gm","Game 1","Game 2","Game 3","Game 4","Bonus/tot","Totaal"]
["Edwin",null,15,null,null,null,null,60]
["Duinhouwer"]
["1/16 Finale",null,null,null,null,"1/8 Finale"]
["Game 1","Game 2","Bonus","Tegenst.",null,"Game 1","Game 2","Bonus","Tegenst."]
[null,null,30,null,null,null,null,30]
[]
["1/4 Finale",null,null,null,null,"1/2 Finale",null,null,null,null,"Finale"]
["Game 1","Game 2","Bonus","Tegenst.",null,"Game 1","Game 2","Bonus","Tegenst.",null,"Game 1","Game 2","Bonus","Tegenst."]
[null,null,30,null,null,null,null,30,null,null,null,null,30]
[]
[]
[null,null,"Bonus/gm","Game 1","Game 2","Game 3","Game 4","Bonus/tot","Totaal"]
["Stephan",null,0,null,null,null,null,0]
["Vrijenhoek"]
["1/16 Finale",null,null,null,null,"1/8 Finale"]
["Game 1","Game 2","Bonus","Tegenst.",null,"Game 1","Game 2","Bonus","Tegenst."]
[null,null,0,null,null,null,null,0]
[]
["1/4 Finale",null,null,null,null,"1/2 Finale",null,null,null,null,"Finale"]
["Game 1","Game 2","Bonus","Tegenst.",null,"Game 1","Game 2","Bonus","Tegenst.",null,"Game 1","Game 2","Bonus","Tegenst."]
[null,null,0,null,null,null,null,0,null,null,null,null,0]
[]
[]
[]
[null,null,"Bonus/gm","Game 1","Game 2","Game 3","Game 4","Bonus/tot","Totaal"]
["Henry",null,0,null,null,null,null,0]
["van Steenis"]
["1/16 Finale",null,null,null,null,"1/8 Finale"]
["Game 1","Game 2","Bonus","Tegenst.",null,"Game 1","Game 2","Bonus","Tegenst."]
[null,null,0,null,null,null,null,0]
[]
["1/4 Finale",null,null,null,null,"1/2 Finale",null,null,null,null,"Finale"]
["Game 1","Game 2","Bonus","Tegenst.",null,"Game 1","Game 2","Bonus","Tegenst.",null,"Game 1","Game 2","Bonus","Tegenst."]
[null,null,0,null,null,null,null,0,null,null,null,null,0]
[]
[]
[]
[null,null,"Bonus/gm","Game 1","Game 2","Game 3","Game 4","Bonus/tot","Totaal"]
["Guy",null,0,null,null,null,null,0]
["Janssens"]
["1/16 Finale",null,null,null,null,"1/8 Finale"]
["Game 1","Game 2","Bonus","Tegenst.",null,"Game 1","Game 2","Bonus","Tegenst."]
[null,null,0,null,null,null,null,0]
[]
["1/4 Finale",null,null,null,null,"1/2 Finale",null,null,null,null,"Finale"]
["Game 1","Game 2","Bonus","Tegenst.",null,"Game 1","Game 2","Bonus","Tegenst.",null,"Game 1","Game 2","Bonus","Tegenst."]
[null,null,0,null,null,null,null,0,null,null,null,null,0]
[]
[]
[null,null,"Bonus/gm","Game 1","Game 2","Game 3","Game 4","Bonus/tot","Totaal"]
["Kees",null,10,null,null,null,null,40]
["Ringelberg"]
["1/16 Finale",null,null,null,null,"1/8 Finale"]
["Game 1","Game 2","Bonus","Tegenst.",null,"Game 1","Game 2","Bonus","Tegenst."]
[null,null,20,null,null,null,null,20]
[]
["1/4 Finale",null,null,null,null,"1/2 Finale",null,null,null,null,"Finale"]
["Game 1","Game 2","Bonus","Tegenst.",null,"Game 1","Game 2","Bonus","Tegenst.",null,"Game 1","Game 2","Bonus","Tegenst."]
[null,null,20,null,null,null,null,20,null,null,null,null,20]
[]
[]
[]
[null,null,"Bonus/gm","Game 1","Game 2","Game 3","Game 4","Bonus/tot","Totaal"]
["Andrea",null,15,null,null,null,null,60]
["Ringelberg"]
["1/16 Finale",null,null,null,null,"1/8 Finale"]
["Game 1","Game 2","Bonus","Tegenst.",null,"Game 1","Game 2","Bonus","Tegenst."]
[null,null,30,null,null,null,null,30]
[]
["1/4 Finale",null,null,null,null,"1/2 Finale",null,null,null,null,"Finale"]
["Game 1","Game 2","Bonus","Tegenst.",null,"Game 1","Game 2","Bonus","Tegenst.",null,"Game 1","Game 2","Bonus","Tegenst."]
[null,null,30,null,null,null,null,30,null,null,null,null,30]
[]
[]
[]
[null,null,"Bonus/gm","Game 1","Game 2","Game 3","Game 4","Bonus/tot","Totaal"]
["Paul",null,15,null,null,null,null,60]
["van Herpen"]
["1/16 Finale",null,null,null,null,"1/8 Finale"]
["Game 1","Game 2","Bonus","Tegenst.",null,"Game 1","Game 2","Bonus","Tegenst."]
[null,null,30,null,null,null,null,30]
[]
["1/4 Finale",null,null,null,null,"1/2 Finale",null,null,null,null,"Finale"]
["Game 1","Game 2","Bonus","Tegenst.",null,"Game 1","Game 2","Bonus","Tegenst.",null,"Game 1","Game 2","Bonus","Tegenst."]
[null,null,30,null,null,null,null,30,null,null,null,null,30]
[]
[]
[null,null,"Bonus/gm","Game 1","Game 2","Game 3","Game 4","Bonus/tot","Totaal"]
["Edwin",null,15,null,null,null,null,60]
["van Leeuwen"]
["1/16 Finale",null,null,null,null,"1/8 Finale"]
["Game 1","Game 2","Bonus","Tegenst.",null,"Game 1","Game 2","Bonus","Tegenst."]
[null,null,30,null,null,null,null,30]
[]
["1/4 Finale",null,null,null,null,"1/2 Finale",null,null,null,null,"Finale"]
["Game 1","Game 2","Bonus","Tegenst.",null,"Game 1","Game 2","Bonus","Tegenst.",null,"Game 1","Game 2","Bonus","Tegenst."]
[null,null,30,null,null,null,null,30,null,null,null,null,30]
[]
[]
[]
[null,null,"Bonus/gm","Game 1","Game 2","Game 3","Game 4","Bonus/tot","Totaal"]
["Marco",null,15,null,null,null,null,60]
["vd Visse"]
["1/16 Finale",null,null,null,null,"1/8 Finale"]
["Game 1","Game 2","Bonus","Tegenst.",null,"Game 1","Game 2","Bonus","Tegenst."]
[null,null,30,null,null,null,null,30]
[]
["1/4 Finale",null,null,null,null,"1/2 Finale",null,null,null,null,"Finale"]
["Game 1","Game 2","Bonus","Tegenst.",null,"Game 1","Game 2","Bonus","Tegenst.",null,"Game 1","Game 2","Bonus","Tegenst."]
[null,null,30,null,null,null,null,30,null,null,null,null,30]
[]
[]
[]
[null,null,"Bonus/gm","Game 1","Game 2","Game 3","Game 4","Bonus/tot","Totaal"]
["Camil",null,0,null,null,null,null,0]
["Bosman"]
["1/16 Finale",null,null,null,null,"1/8 Finale"]
["Game 1","Game 2","Bonus","Tegenst.",null,"Game 1","Game 2","Bonus","Tegenst."]
[null,null,0,null,null,null,null,0]
[]
["1/4 Finale",null,null,null,null,"1/2 Finale",null,null,null,null,"Finale"]
["Game 1","Game 2","Bonus","Tegenst.",null,"Game 1","Game 2","Bonus","Tegenst.",null,"Game 1","Game 2","Bonus","Tegenst."]
[null,null,0,null,null,null,null,0,null,null,null,null,0]